BEGIN:VCALENDAR
VERSION:2.0
PRODID:-//Der Handwerkerhof - ECPv6.15.20//NONSGML v1.0//EN
CALSCALE:GREGORIAN
METHOD:PUBLISH
X-ORIGINAL-URL:https://der-hwh.de
X-WR-CALDESC:Veranstaltungen für Der Handwerkerhof
REFRESH-INTERVAL;VALUE=DURATION:PT1H
X-Robots-Tag:noindex
X-PUBLISHED-TTL:PT1H
BEGIN:VTIMEZONE
TZID:UTC
BEGIN:STANDARD
TZOFFSETFROM:+0000
TZOFFSETTO:+0000
TZNAME:UTC
DTSTART:20200101T000000
END:STANDARD
END:VTIMEZONE
BEGIN:VTIMEZONE
TZID:Europe/Paris
BEGIN:DAYLIGHT
TZOFFSETFROM:+0100
TZOFFSETTO:+0200
TZNAME:CEST
DTSTART:20200329T010000
END:DAYLIGHT
BEGIN:STANDARD
TZOFFSETFROM:+0200
TZOFFSETTO:+0100
TZNAME:CET
DTSTART:20201025T010000
END:STANDARD
BEGIN:DAYLIGHT
TZOFFSETFROM:+0100
TZOFFSETTO:+0200
TZNAME:CEST
DTSTART:20210328T010000
END:DAYLIGHT
BEGIN:STANDARD
TZOFFSETFROM:+0200
TZOFFSETTO:+0100
TZNAME:CET
DTSTART:20211031T010000
END:STANDARD
BEGIN:DAYLIGHT
TZOFFSETFROM:+0100
TZOFFSETTO:+0200
TZNAME:CEST
DTSTART:20220327T010000
END:DAYLIGHT
BEGIN:STANDARD
TZOFFSETFROM:+0200
TZOFFSETTO:+0100
TZNAME:CET
DTSTART:20221030T010000
END:STANDARD
END:VTIMEZONE
BEGIN:VEVENT
DTSTART;VALUE=DATE:20210410
DTEND;VALUE=DATE:20210411
DTSTAMP:20260424T184350
CREATED:20201223T205545Z
LAST-MODIFIED:20210405T111309Z
UID:583-1618012800-1618099199@der-hwh.de
SUMMARY:Dachdeckbauhütte Vol. 1
DESCRIPTION:
URL:https://der-hwh.de/event/osterbauhuette
END:VEVENT
BEGIN:VEVENT
DTSTART;VALUE=DATE:20210417
DTEND;VALUE=DATE:20210418
DTSTAMP:20260424T184350
CREATED:20210405T111325Z
LAST-MODIFIED:20210405T111325Z
UID:965-1618617600-1618703999@der-hwh.de
SUMMARY:Dachdeckbauhütte Vol. 2
DESCRIPTION:
URL:https://der-hwh.de/event/dachdeckbauhuette-vol-2
END:VEVENT
BEGIN:VEVENT
DTSTART;VALUE=DATE:20210424
DTEND;VALUE=DATE:20210425
DTSTAMP:20260424T184350
CREATED:20210405T111338Z
LAST-MODIFIED:20210405T111358Z
UID:967-1619222400-1619308799@der-hwh.de
SUMMARY:Dachdeckbauhütte Vol. 3
DESCRIPTION:
URL:https://der-hwh.de/event/dachdeckbauhuette-vol-1
END:VEVENT
END:VCALENDAR