BEGIN:VCALENDAR
VERSION:2.0
PRODID:-//Der Handwerkerhof - ECPv6.15.20//NONSGML v1.0//EN
CALSCALE:GREGORIAN
METHOD:PUBLISH
X-WR-CALNAME:Der Handwerkerhof
X-ORIGINAL-URL:https://der-hwh.de
X-WR-CALDESC:Veranstaltungen für Der Handwerkerhof
REFRESH-INTERVAL;VALUE=DURATION:PT1H
X-Robots-Tag:noindex
X-PUBLISHED-TTL:PT1H
BEGIN:VTIMEZONE
TZID:Europe/Berlin
BEGIN:DAYLIGHT
TZOFFSETFROM:+0100
TZOFFSETTO:+0200
TZNAME:CEST
DTSTART:20210328T010000
END:DAYLIGHT
BEGIN:STANDARD
TZOFFSETFROM:+0200
TZOFFSETTO:+0100
TZNAME:CET
DTSTART:20211031T010000
END:STANDARD
BEGIN:DAYLIGHT
TZOFFSETFROM:+0100
TZOFFSETTO:+0200
TZNAME:CEST
DTSTART:20220327T010000
END:DAYLIGHT
BEGIN:STANDARD
TZOFFSETFROM:+0200
TZOFFSETTO:+0100
TZNAME:CET
DTSTART:20221030T010000
END:STANDARD
BEGIN:DAYLIGHT
TZOFFSETFROM:+0100
TZOFFSETTO:+0200
TZNAME:CEST
DTSTART:20230326T010000
END:DAYLIGHT
BEGIN:STANDARD
TZOFFSETFROM:+0200
TZOFFSETTO:+0100
TZNAME:CET
DTSTART:20231029T010000
END:STANDARD
END:VTIMEZONE
BEGIN:VEVENT
DTSTART;VALUE=DATE:20220520
DTEND;VALUE=DATE:20220523
DTSTAMP:20260420T121142
CREATED:20220410T195659Z
LAST-MODIFIED:20220410T195659Z
UID:1352-1653004800-1653263999@der-hwh.de
SUMMARY:Vorbereitungsbauhütte
DESCRIPTION:Diese Bauhütte widmet sich der Vorbereitung des Genusswerkens am Wochenende danach. Sprich\, es geht darum den Hof etwas herauszuputzen und klar schiff zu machen bevor es losgeht
URL:https://der-hwh.de/event/vorbereitungsbauhuette
END:VEVENT
END:VCALENDAR