BEGIN:VCALENDAR
VERSION:2.0
PRODID:-//Der Handwerkerhof - ECPv6.15.20//NONSGML v1.0//EN
CALSCALE:GREGORIAN
METHOD:PUBLISH
X-ORIGINAL-URL:https://der-hwh.de
X-WR-CALDESC:Veranstaltungen für Der Handwerkerhof
REFRESH-INTERVAL;VALUE=DURATION:PT1H
X-Robots-Tag:noindex
X-PUBLISHED-TTL:PT1H
BEGIN:VTIMEZONE
TZID:UTC
BEGIN:STANDARD
TZOFFSETFROM:+0000
TZOFFSETTO:+0000
TZNAME:UTC
DTSTART:20200101T000000
END:STANDARD
END:VTIMEZONE
BEGIN:VEVENT
DTSTART;VALUE=DATE:20210625
DTEND;VALUE=DATE:20210628
DTSTAMP:20260424T171645
CREATED:20201223T205656Z
LAST-MODIFIED:20201223T205656Z
UID:587-1624579200-1624838399@der-hwh.de
SUMMARY:Bauhütte
DESCRIPTION:
URL:https://der-hwh.de/event/bauhuette-5
END:VEVENT
END:VCALENDAR